BEGIN:VCALENDAR
VERSION:2.0
PRODID:-//Max Dohner - Schriftsteller - ECPv5.7.0//NONSGML v1.0//EN
CALSCALE:GREGORIAN
METHOD:PUBLISH
X-WR-CALNAME:Max Dohner - Schriftsteller
X-ORIGINAL-URL:https://maxdohner.ch/web
X-WR-CALDESC:Veranstaltungen für Max Dohner - Schriftsteller
BEGIN:VTIMEZONE
TZID:UTC
BEGIN:STANDARD
TZOFFSETFROM:+0000
TZOFFSETTO:+0000
TZNAME:UTC
DTSTART:20190101T000000
END:STANDARD
END:VTIMEZONE
BEGIN:VEVENT
DTSTART;TZID=UTC:20191106T150000
DTEND;TZID=UTC:20191106T200000
DTSTAMP:20260420T123732
CREATED:20191023T160509Z
LAST-MODIFIED:20191023T160806Z
UID:2001-1573052400-1573070400@maxdohner.ch
SUMMARY:Verleihung des Virgilio Masciadri-Preises
DESCRIPTION:Am Himmel kaum Gefälle: Literarische Lesung mit Max Dohner (Aarau) und Verleihung des Virgilio Masciadri- Preises 2019 an den Autor durch Cornelia Masciadri. In Zusammenarbeit mit dem Seetaler Poesiesommer. \nAm Himmel kaum Gefälle: Literarische Lesung mit Max Dohner (Aarau) und Verleihung des Virgilio Masciadri- Preises 2019 an den Autor durch Cornelia Masciadri. \nIn Zusammenarbeit mit dem Seetaler Poesiesommer. Das internationale Festival der leisen Töne feiert 2019 seine 20. Ausgabe.
URL:https://maxdohner.ch/web/event/verleihung-des-virgilio-masciadri-preises/
LOCATION:Museum Langmatt\, Römerstrasse 30\, 5400 Baden\, Römerstrasse 30\, Ennetbaden\, Aargau\, 5400\, Schweiz
CATEGORIES:Preisverleihung
ATTACH;FMTTYPE=image/jpeg:https://maxdohner.ch/web/wp-content/uploads/2019/10/langmatt.jpg
END:VEVENT
END:VCALENDAR