BEGIN:VCALENDAR
VERSION:2.0
PRODID:-//Max Dohner - Schriftsteller - ECPv5.7.0//NONSGML v1.0//EN
CALSCALE:GREGORIAN
METHOD:PUBLISH
X-WR-CALNAME:Max Dohner - Schriftsteller
X-ORIGINAL-URL:https://maxdohner.ch/web
X-WR-CALDESC:Veranstaltungen für Max Dohner - Schriftsteller
BEGIN:VTIMEZONE
TZID:UTC
BEGIN:STANDARD
TZOFFSETFROM:+0000
TZOFFSETTO:+0000
TZNAME:UTC
DTSTART:20190101T000000
END:STANDARD
END:VTIMEZONE
BEGIN:VEVENT
DTSTART;TZID=UTC:20191027T110000
DTEND;TZID=UTC:20191119T210000
DTSTAMP:20260420T104923
CREATED:20190402T111516Z
LAST-MODIFIED:20191023T160909Z
UID:1925-1572174000-1574197200@maxdohner.ch
SUMMARY:Weitere Veranstaltungen 2019
DESCRIPTION:27.10.2019: Kultur im Garnhaus / Stroppelstrasse 19 / 5417 Untersiggenthal 11:00 Uhr\, Piano-Impressionen: Johannes Schraner \n19.11.2019: Theatertuchlaube  / Aarau / 20.00 Uhr
URL:https://maxdohner.ch/web/event/weitere-lesungen-2019/
LOCATION:Uetikon am See
CATEGORIES:Lesungen
ATTACH;FMTTYPE=image/jpeg:https://maxdohner.ch/web/wp-content/uploads/2019/04/lesungen.jpg
END:VEVENT
END:VCALENDAR